{"text_format":"1","workbook":"xlsx","n_sheets":2,"sheets":["2024-2025","Sheet1"],"not_rendered":{"charts":0,"images":1,"macros":1,"external_links":0,"defined_names":10,"comments":0,"pivot_tables":0},"unopened":[],"bounds":{"document_bytes":16777216,"sheet_cells":100000,"rows_first":2000,"rows_last":500,"rows_between":2000,"halvings":0,"cell_chars":16384,"cell_head_chars":4096},"cells_cut":0,"cells_raw":0,"read":"whole","date_system":"1900"}

{"sheet":"2024-2025","index":0,"n_rows":64,"n_cols":33,"rows_kept":64,"cut":false,"hidden":false,"merged":[[62,6,62,7],[62,10,62,16],[62,2,62,5],[6,7,6,13],[10,29,10,31],[54,25,54,30],[55,9,55,13],[55,25,55,30],[46,9,46,13],[46,25,46,30],[47,9,47,13],[47,25,47,30],[48,9,48,13],[48,25,48,30],[49,9,49,13],[54,9,54,13],[34,25,34,30],[38,25,38,30],[32,9,32,13],[32,25,32,30],[49,25,49,30],[50,9,50,13],[50,25,50,30],[40,9,40,13],[42,25,42,30],[41,9,41,13],[39,9,39,13],[42,9,42,13],[33,25,33,30],[22,9,22,13],[22,25,22,30],[24,9,24,13],[24,25,24,30],[30,25,30,30],[31,9,31,13],[31,25,31,30],[23,9,23,13],[30,9,30,13],[16,25,16,30],[60,13,60,15],[10,20,10,26],[36,1,36,7],[18,9,18,13],[9,14,9,15],[9,16,9,18],[17,9,17,13],[9,20,9,26],[14,25,14,30],[17,25,17,30],[14,9,14,13],[23,25,23,30],[15,25,15,30],[11,2,11,30],[25,9,25,13],[25,25,25,30],[39,25,39,30],[18,25,18,30],[26,9,26,13],[26,25,26,30],[38,9,38,13],[40,25,40,30],[41,25,41,30],[60,18,60,26],[2,10,2,11],[2,12,2,13],[2,14,2,26],[12,1,12,7],[20,1,20,7],[28,1,28,7],[5,20,5,23],[5,3,5,13],[6,16,6,18],[5,14,5,18],[5,0,5,2],[15,9,15,13],[6,20,6,30],[7,0,7,3],[8,4,8,13],[6,0,6,6],[7,4,7,13],[8,26,8,30],[7,20,7,31],[8,0,8,3],[8,20,8,22],[6,14,6,15],[16,9,16,13],[60,1,60,11],[62,17,62,19],[63,18,63,20],[44,1,44,7],[52,1,52,7],[12,17,12,23],[20,17,20,23],[28,17,28,23],[36,17,36,23],[44,17,44,23],[52,17,52,23],[33,9,33,13],[34,9,34,13],[63,7,63,12],[63,23,63,25],[56,25,56,30],[57,9,57,13],[57,25,57,30],[58,9,58,13],[58,25,58,30],[62,27,62,29],[56,9,56,13],[60,28,60,30],[62,20,62,26]]}
[]
[null,null,null,null,null,null,null,null,null,null,null,null,"Sunday",null,null,null,null,null,null,null,null,null,null,null,null,null,null,null,null,7]
[null,null,null,null,null,null,null,null,null,null,2024,null,2025,null,"Work Calendar",null,null,null,null,null,null,null,null,null,null,null,null,null,null,"Sunday"]
[null,null,null,null,null,null,null,null,null,null,null,null,null,null,null,null,null,null,null,null,null,null,null,null,null,null,null,null,null,null,2020]
[]
["NAME: ",null,null,null,null,null,null,null,null,null,null,null,null,null,"Total Annual ",null,null,null,null,"H","Holidays"]
["LAST FOUR SSN  XXX-XX-",null,null,null,null,null,null,null,null,null,null,null,null,null,"Days: ",null,261,null,null,"N","Non-Work Day/Vacation Day"]
["WORK SITE:",null,null,null,null,null,null,null,null,null,null,null,null,null,null,null,null,null,null,null,"Student Recess Day"]
["JOB TITLE:",null,null,null,null,null,null,null,null,null,null,null,null,null,"Contract Work",null,null,null,null,null,"Work Day"]
[null,null,null,null,null,null,null,null,null,null,null,null,null,null,"Days:",null,null,null,null,null,"Prof. Developmnet Day"]
[null,null,null,null,null,null,null,null,null,null,null,null,null,null,null,null,null,null,null,null,"First/Last day of School"]
[]
[null,{"$f":"DATE(year,7,1)","v":"2024-07-01"},null,null,null,null,null,null,null,null,null,null,null,null,null,null,null,{"$f":"DATE(M3,1,1)","v":"2025-01-01"}]
[null,"Su","M","Tu","W","Th","F","Sa",null,null,null,"r",null,null,null,null,null,"Su","M","Tu","W","Th","F","Sa"]
[null,{"$f":"DAY(Sheet1!A3)","v":"1900-01-30"},{"$f":"DAY(Sheet1!B3)","v":"1900-01-01"},{"$f":"DAY(Sheet1!C3)","v":"1900-01-02"},{"$f":"DAY(Sheet1!D3)","v":"1900-01-03"},"H",{"$f":"DAY(Sheet1!F3)","v":"1900-01-05"},{"$f":"DAY(Sheet1!G3)","v":"1900-01-06"},null,"Month Total ",null,null,null,null,{"$f":"NETWORKDAYS(B13,EOMONTH(B13,0),0)","v":23},null,null,{"$f":"DAY(Sheet1!A45)","v":"1900-01-29"},{"$f":"DAY(Sheet1!B45)","v":"1900-01-30"},{"$f":"DAY(Sheet1!C45)","v":"1900-01-31"},"H",{"$f":"DAY(Sheet1!E45)","v":"1900-01-02"},{"$f":"DAY(Sheet1!F45)","v":"1900-01-03"},{"$f":"DAY(Sheet1!G45)","v":"1900-01-04"},null,"Month Total  ",null,null,null,null,null,{"$f":"NETWORKDAYS(R13,EOMONTH(R13,0),0)","v":23},1]
[null,{"$f":"DAY(Sheet1!A4)","v":"1900-01-07"},{"$f":"DAY(Sheet1!B4)","v":"1900-01-08"},{"$f":"DAY(Sheet1!C4)","v":"1900-01-09"},{"$f":"DAY(Sheet1!D4)","v":"1900-01-10"},{"$f":"DAY(Sheet1!E4)","v":"1900-01-11"},{"$f":"DAY(Sheet1!F4)","v":"1900-01-12"},{"$f":"DAY(Sheet1!G4)","v":"1900-01-13"},null,"Year to Total ",null,null,null,null,{"$f":"$O$15","v":23},null,null,{"$f":"DAY(Sheet1!A46)","v":"1900-01-05"},{"$f":"DAY(Sheet1!B46)","v":"1900-01-06"},{"$f":"DAY(Sheet1!C46)","v":"1900-01-07"},{"$f":"DAY(Sheet1!D46)","v":"1900-01-08"},{"$f":"DAY(Sheet1!E46)","v":"1900-01-09"},{"$f":"DAY(Sheet1!F46)","v":"1900-01-10"},{"$f":"DAY(Sheet1!G46)","v":"1900-01-11"},null,"Year to Total ",null,null,null,null,null,{"$f":"(O56+AF15)","v":155},2]
[null,{"$f":"DAY(Sheet1!A5)","v":"1900-01-14"},{"$f":"DAY(Sheet1!B5)","v":"1900-01-15"},{"$f":"DAY(Sheet1!C5)","v":"1900-01-16"},{"$f":"DAY(Sheet1!D5)","v":"1900-01-17"},{"$f":"DAY(Sheet1!E5)","v":"1900-01-18"},{"$f":"DAY(Sheet1!F5)","v":"1900-01-19"},{"$f":"DAY(Sheet1!G5)","v":"1900-01-20"},null,"Holidays  ",null,null,null,null,{"$f":"COUNTIF(C15:H19,\"H\")","v":1},null,null,{"$f":"DAY(Sheet1!A47)","v":"1900-01-12"},{"$f":"DAY(Sheet1!B47)","v":"1900-01-13"},{"$f":"DAY(Sheet1!C47)","v":"1900-01-14"},{"$f":"DAY(Sheet1!D47)","v":"1900-01-15"},{"$f":"DAY(Sheet1!E47)","v":"1900-01-16"},{"$f":"DAY(Sheet1!F47)","v":"1900-01-17"},{"$f":"DAY(Sheet1!G47)","v":"1900-01-18"},null,"Holidays  ",null,null,null,null,null,{"$f":"COUNTIF(R15:X20,\"H\")","v":2},3]
[null,{"$f":"DAY(Sheet1!A6)","v":"1900-01-21"},{"$f":"DAY(Sheet1!B6)","v":"1900-01-22"},{"$f":"DAY(Sheet1!C6)","v":"1900-01-23"},{"$f":"DAY(Sheet1!D6)","v":"1900-01-24"},{"$f":"DAY(Sheet1!E6)","v":"1900-01-25"},{"$f":"DAY(Sheet1!F6)","v":"1900-01-26"},{"$f":"DAY(Sheet1!G6)","v":"1900-01-27"},null,"Non-Work Days",null,null,null,null,{"$f":"CountCcolor(B15:H20,$T$7)","v":0},null,null,{"$f":"DAY(Sheet1!A48)","v":"1900-01-19"},"H",{"$f":"DAY(Sheet1!C48)","v":"1900-01-21"},{"$f":"DAY(Sheet1!D48)","v":"1900-01-22"},{"$f":"DAY(Sheet1!E48)","v":"1900-01-23"},{"$f":"DAY(Sheet1!F48)","v":"1900-01-24"},{"$f":"DAY(Sheet1!G48)","v":"1900-01-25"},null,"Non-Work Days",null,null,null,null,null,{"$f":"CountCcolor(S15:Y20,$T$7)","v":0},4]
[null,{"$f":"DAY(Sheet1!A7)","v":"1900-01-28"},{"$f":"DAY(Sheet1!B7)","v":"1900-01-29"},{"$f":"DAY(Sheet1!C7)","v":"1900-01-30"},{"$f":"DAY(Sheet1!D7)","v":"1900-01-31"},{"$f":"DAY(Sheet1!E7)","v":"1900-01-01"},{"$f":"DAY(Sheet1!F7)","v":"1900-01-02"},{"$f":"DAY(Sheet1!G7)","v":"1900-01-03"},null,"Service Days ",null,null,null,null,{"$f":"O15-(O17+O18)","v":22},null,null,{"$f":"DAY(Sheet1!A49)","v":"1900-01-26"},{"$f":"DAY(Sheet1!B49)","v":"1900-01-27"},{"$f":"DAY(Sheet1!C49)","v":"1900-01-28"},{"$f":"DAY(Sheet1!D49)","v":"1900-01-29"},{"$f":"DAY(Sheet1!E49)","v":"1900-01-30"},{"$f":"DAY(Sheet1!F49)","v":"1900-01-31"},{"$f":"DAY(Sheet1!G49)","v":"1900-01-01"},null,"Service Days ",null,null,null,null,null,{"$f":"AF15-(AF17+AF18)","v":21},5]
[null,{"$f":"DAY(Sheet1!A8)","v":"1900-01-04"},{"$f":"DAY(Sheet1!B8)","v":"1900-01-05"},{"$f":"DAY(Sheet1!C8)","v":"1900-01-06"},{"$f":"DAY(Sheet1!D8)","v":"1900-01-07"},{"$f":"DAY(Sheet1!E8)","v":"1900-01-08"},{"$f":"DAY(Sheet1!F8)","v":"1900-01-09"},{"$f":"DAY(Sheet1!G8)","v":"1900-01-10"},null,null,null,null,null,null,null,null,null,{"$f":"DAY(Sheet1!A50)","v":"1900-01-02"},{"$f":"DAY(Sheet1!B50)","v":"1900-01-03"},{"$f":"DAY(Sheet1!C50)","v":"1900-01-04"},{"$f":"DAY(Sheet1!D50)","v":"1900-01-05"},{"$f":"DAY(Sheet1!E50)","v":"1900-01-06"},{"$f":"DAY(Sheet1!F50)","v":"1900-01-07"},{"$f":"DAY(Sheet1!G50)","v":"1900-01-08"},null,null,null,null,null,null,null,null,6]
[null,{"$f":"DATE(year,month+1,1)","v":"2024-08-01"},null,null,null,null,null,null,null,null,null,null,null,null,null,null,null,{"$f":"DATE(M3,2,1)","v":"2025-02-01"}]
[null,"Su","M","Tu","W","Th","F","Sa",null,null,null,null,null,null,null,null,null,"Su","M","Tu","W","Th","F","Sa"]
[null,{"$f":"DAY(Sheet1!A10)","v":"1900-01-28"},{"$f":"DAY(Sheet1!B10)","v":"1900-01-29"},{"$f":"DAY(Sheet1!C10)","v":"1900-01-30"},{"$f":"DAY(Sheet1!D10)","v":"1900-01-31"},{"$f":"DAY(Sheet1!E10)","v":"1900-01-01"},{"$f":"DAY(Sheet1!F10)","v":"1900-01-02"},{"$f":"DAY(Sheet1!G10)","v":"1900-01-03"},null,"Month Total  ",null,null,null,null,{"$f":"NETWORKDAYS(B21,EOMONTH(B21,0),0)","v":22},null,null,{"$f":"DAY(Sheet1!A52)","v":"1900-01-26"},{"$f":"DAY(Sheet1!B52)","v":"1900-01-27"},{"$f":"DAY(Sheet1!C52)","v":"1900-01-28"},{"$f":"DAY(Sheet1!D52)","v":"1900-01-29"},{"$f":"DAY(Sheet1!E52)","v":"1900-01-30"},{"$f":"DAY(Sheet1!F52)","v":"1900-01-31"},{"$f":"DAY(Sheet1!G52)","v":"1900-01-01"},null,"Month Total  ",null,null,null,null,null,{"$f":"NETWORKDAYS(R21,EOMONTH(R21,0),0)","v":20}]
[null,{"$f":"DAY(Sheet1!A11)","v":"1900-01-04"},{"$f":"DAY(Sheet1!B11)","v":"1900-01-05"},{"$f":"DAY(Sheet1!C11)","v":"1900-01-06"},{"$f":"DAY(Sheet1!D11)","v":"1900-01-07"},{"$f":"DAY(Sheet1!E11)","v":"1900-01-08"},{"$f":"DAY(Sheet1!F11)","v":"1900-01-09"},{"$f":"DAY(Sheet1!G11)","v":"1900-01-10"},null,"Year to Total ",null,null,null,null,{"$f":"(O16+O23)","v":45},null,null,{"$f":"DAY(Sheet1!A53)","v":"1900-01-02"},{"$f":"DAY(Sheet1!B53)","v":"1900-01-03"},{"$f":"DAY(Sheet1!C53)","v":"1900-01-04"},{"$f":"DAY(Sheet1!D53)","v":"1900-01-05"},{"$f":"DAY(Sheet1!E53)","v":"1900-01-06"},{"$f":"DAY(Sheet1!F53)","v":"1900-01-07"},{"$f":"DAY(Sheet1!G53)","v":"1900-01-08"},null,"Year to Total ",null,null,null,null,null,{"$f":"(AF16+AF23)","v":175}]
[null,{"$f":"DAY(Sheet1!A12)","v":"1900-01-11"},{"$f":"DAY(Sheet1!B12)","v":"1900-01-12"},{"$f":"DAY(Sheet1!C12)","v":"1900-01-13"},{"$f":"DAY(Sheet1!D12)","v":"1900-01-14"},{"$f":"DAY(Sheet1!E12)","v":"1900-01-15"},{"$f":"DAY(Sheet1!F12)","v":"1900-01-16"},{"$f":"DAY(Sheet1!G12)","v":"1900-01-17"},null,"Holidays",null,null,null,null,{"$f":"COUNTIF(B23:G29,\"H\")","v":0},null,null,{"$f":"DAY(Sheet1!A54)","v":"1900-01-09"},"H",{"$f":"DAY(Sheet1!C54)","v":"1900-01-11"},{"$f":"DAY(Sheet1!D54)","v":"1900-01-12"},{"$f":"DAY(Sheet1!E54)","v":"1900-01-13"},{"$f":"DAY(Sheet1!F54)","v":"1900-01-14"},{"$f":"DAY(Sheet1!G54)","v":"1900-01-15"},null,"Holidays  ",null,null,null,null,null,{"$f":"COUNTIF(R23:X28,\"H\")","v":2}]
[null,{"$f":"DAY(Sheet1!A13)","v":"1900-01-18"},{"$f":"DAY(Sheet1!B13)","v":"1900-01-19"},{"$f":"DAY(Sheet1!C13)","v":"1900-01-20"},{"$f":"DAY(Sheet1!D13)","v":"1900-01-21"},{"$f":"DAY(Sheet1!E13)","v":"1900-01-22"},{"$f":"DAY(Sheet1!F13)","v":"1900-01-23"},{"$f":"DAY(Sheet1!G13)","v":"1900-01-24"},null,"Non-Work Days",null,null,null,null,{"$f":"CountCcolor(B23:H28,$T$7)","v":0},null,null,{"$f":"DAY(Sheet1!A55)","v":"1900-01-16"},"H",{"$f":"DAY(Sheet1!C55)","v":"1900-01-18"},{"$f":"DAY(Sheet1!D55)","v":"1900-01-19"},{"$f":"DAY(Sheet1!E55)","v":"1900-01-20"},{"$f":"DAY(Sheet1!F55)","v":"1900-01-21"},{"$f":"DAY(Sheet1!G55)","v":"1900-01-22"},null,"Non-Work Days",null,null,null,null,null,{"$f":"CountCcolor(S23:Y28,$T$7)","v":0}]
[null,{"$f":"DAY(Sheet1!A14)","v":"1900-01-25"},{"$f":"DAY(Sheet1!B14)","v":"1900-01-26"},{"$f":"DAY(Sheet1!C14)","v":"1900-01-27"},{"$f":"DAY(Sheet1!D14)","v":"1900-01-28"},{"$f":"DAY(Sheet1!E14)","v":"1900-01-29"},{"$f":"DAY(Sheet1!F14)","v":"1900-01-30"},{"$f":"DAY(Sheet1!G14)","v":"1900-01-31"},null,"Service Days ",null,null,null,null,{"$f":"O23-(O25+O26)","v":22},null,null,{"$f":"DAY(Sheet1!A56)","v":"1900-01-23"},{"$f":"DAY(Sheet1!B56)","v":"1900-01-24"},{"$f":"DAY(Sheet1!C56)","v":"1900-01-25"},{"$f":"DAY(Sheet1!D56)","v":"1900-01-26"},{"$f":"DAY(Sheet1!E56)","v":"1900-01-27"},{"$f":"DAY(Sheet1!F56)","v":"1900-01-28"},{"$f":"DAY(Sheet1!G56)","v":"1900-01-01"},null,"Service Days ",null,null,null,null,null,{"$f":"AF23-(AF25+AF26)","v":18}]
[null,{"$f":"DAY(Sheet1!A15)","v":"1900-01-01"},{"$f":"DAY(Sheet1!B15)","v":"1900-01-02"},{"$f":"DAY(Sheet1!C15)","v":"1900-01-03"},{"$f":"DAY(Sheet1!D15)","v":"1900-01-04"},{"$f":"DAY(Sheet1!E15)","v":"1900-01-05"},{"$f":"DAY(Sheet1!F15)","v":"1900-01-06"},{"$f":"DAY(Sheet1!G15)","v":"1900-01-07"},null,null,null,null,null,null,null,null,null,{"$f":"DAY(Sheet1!A57)","v":"1900-01-02"},{"$f":"DAY(Sheet1!B57)","v":"1900-01-03"},{"$f":"DAY(Sheet1!C57)","v":"1900-01-04"},{"$f":"DAY(Sheet1!D57)","v":"1900-01-05"},{"$f":"DAY(Sheet1!E57)","v":"1900-01-06"},{"$f":"DAY(Sheet1!F57)","v":"1900-01-07"},{"$f":"DAY(Sheet1!G57)","v":"1900-01-08"}]
[null,{"$f":"DATE(year,month+2,1)","v":"2024-09-01"},null,null,null,null,null,null,null,null,null,null,null,null,null,null,null,{"$f":"DATE(M3,3,1)","v":"2025-03-01"}]
[null,"Su","M","Tu","W","Th","F","Sa",null,null,null,null,null,null,null,null,null,"Su","M","Tu","W","Th","F","Sa"]
[null,{"$f":"DAY(Sheet1!A17)","v":"1900-01-01"},"H",{"$f":"DAY(Sheet1!C17)","v":"1900-01-03"},{"$f":"DAY(Sheet1!D17)","v":"1900-01-04"},{"$f":"DAY(Sheet1!E17)","v":"1900-01-05"},{"$f":"DAY(Sheet1!F17)","v":"1900-01-06"},{"$f":"DAY(Sheet1!G17)","v":"1900-01-07"},null,"Month Total  ",null,null,null,null,{"$f":"NETWORKDAYS(B29,EOMONTH(B29,0),0)","v":21},null,null,{"$f":"DAY(Sheet1!A59)","v":"1900-01-23"},{"$f":"DAY(Sheet1!B59)","v":"1900-01-24"},{"$f":"DAY(Sheet1!C59)","v":"1900-01-25"},{"$f":"DAY(Sheet1!D59)","v":"1900-01-26"},{"$f":"DAY(Sheet1!E59)","v":"1900-01-27"},{"$f":"DAY(Sheet1!F59)","v":"1900-01-28"},{"$f":"DAY(Sheet1!G59)","v":"1900-01-01"},null,"Month Total  ",null,null,null,null,null,{"$f":"NETWORKDAYS(R29,EOMONTH(R29,0),0)","v":21}]
[null,{"$f":"DAY(Sheet1!A18)","v":"1900-01-08"},{"$f":"DAY(Sheet1!B18)","v":"1900-01-09"},{"$f":"DAY(Sheet1!C18)","v":"1900-01-10"},{"$f":"DAY(Sheet1!D18)","v":"1900-01-11"},{"$f":"DAY(Sheet1!E18)","v":"1900-01-12"},{"$f":"DAY(Sheet1!F18)","v":"1900-01-13"},{"$f":"DAY(Sheet1!G18)","v":"1900-01-14"},null,"Year to Total ",null,null,null,null,{"$f":"(O24+O31)","v":66},null,null,{"$f":"DAY(Sheet1!A60)","v":"1900-01-02"},{"$f":"DAY(Sheet1!B60)","v":"1900-01-03"},{"$f":"DAY(Sheet1!C60)","v":"1900-01-04"},{"$f":"DAY(Sheet1!D60)","v":"1900-01-05"},{"$f":"DAY(Sheet1!E60)","v":"1900-01-06"},{"$f":"DAY(Sheet1!F60)","v":"1900-01-07"},{"$f":"DAY(Sheet1!G60)","v":"1900-01-08"},null,"Year to Total ",null,null,null,null,null,{"$f":"(AF24+AF31)","v":196}]
[null,{"$f":"DAY(Sheet1!A19)","v":"1900-01-15"},{"$f":"DAY(Sheet1!B19)","v":"1900-01-16"},{"$f":"DAY(Sheet1!C19)","v":"1900-01-17"},{"$f":"DAY(Sheet1!D19)","v":"1900-01-18"},{"$f":"DAY(Sheet1!E19)","v":"1900-01-19"},{"$f":"DAY(Sheet1!F19)","v":"1900-01-20"},{"$f":"DAY(Sheet1!G19)","v":"1900-01-21"},null,"Holidays  ",null,null,null,null,{"$f":"COUNTIF(C31:H35,\"H\")","v":1},null,null,{"$f":"DAY(Sheet1!A61)","v":"1900-01-09"},{"$f":"DAY(Sheet1!B61)","v":"1900-01-10"},{"$f":"DAY(Sheet1!C61)","v":"1900-01-11"},{"$f":"DAY(Sheet1!D61)","v":"1900-01-12"},{"$f":"DAY(Sheet1!E61)","v":"1900-01-13"},{"$f":"DAY(Sheet1!F61)","v":"1900-01-14"},{"$f":"DAY(Sheet1!G61)","v":"1900-01-15"},null,"Holidays  ",null,null,null,null,null,{"$f":"COUNTIF(R31:X36,\"H\")","v":0}]
[null,{"$f":"DAY(Sheet1!A20)","v":"1900-01-22"},{"$f":"DAY(Sheet1!B20)","v":"1900-01-23"},{"$f":"DAY(Sheet1!C20)","v":"1900-01-24"},{"$f":"DAY(Sheet1!D20)","v":"1900-01-25"},{"$f":"DAY(Sheet1!E20)","v":"1900-01-26"},{"$f":"DAY(Sheet1!F20)","v":"1900-01-27"},{"$f":"DAY(Sheet1!G20)","v":"1900-01-28"},null,"Non-Work Days",null,null,null,null,{"$f":"CountCcolor(B31:H36,$T$7)","v":0},null,null,{"$f":"DAY(Sheet1!A62)","v":"1900-01-16"},{"$f":"DAY(Sheet1!B62)","v":"1900-01-17"},{"$f":"DAY(Sheet1!C62)","v":"1900-01-18"},{"$f":"DAY(Sheet1!D62)","v":"1900-01-19"},{"$f":"DAY(Sheet1!E62)","v":"1900-01-20"},{"$f":"DAY(Sheet1!F62)","v":"1900-01-21"},{"$f":"DAY(Sheet1!G62)","v":"1900-01-22"},null,"Non-Work Days",null,null,null,null,null,{"$f":"CountCcolor(S31:Y36,$T$7)","v":0}]
[null,{"$f":"DAY(Sheet1!A21)","v":"1900-01-29"},{"$f":"DAY(Sheet1!B21)","v":"1900-01-30"},{"$f":"DAY(Sheet1!C21)","v":"1900-01-01"},{"$f":"DAY(Sheet1!D21)","v":"1900-01-02"},{"$f":"DAY(Sheet1!E21)","v":"1900-01-03"},{"$f":"DAY(Sheet1!F21)","v":"1900-01-04"},{"$f":"DAY(Sheet1!G21)","v":"1900-01-05"},null,"Service Days ",null,null,null,null,{"$f":"O31-(O33+O34)","v":20},null,null,{"$f":"DAY(Sheet1!A63)","v":"1900-01-23"},{"$f":"DAY(Sheet1!B63)","v":"1900-01-24"},{"$f":"DAY(Sheet1!C63)","v":"1900-01-25"},{"$f":"DAY(Sheet1!D63)","v":"1900-01-26"},{"$f":"DAY(Sheet1!E63)","v":"1900-01-27"},{"$f":"DAY(Sheet1!F63)","v":"1900-01-28"},{"$f":"DAY(Sheet1!G63)","v":"1900-01-29"},null,"Service Days ",null,null,null,null,null,{"$f":"AF31-(AF33+AF34)","v":21}]
[null,{"$f":"DAY(Sheet1!A22)","v":"1900-01-06"},{"$f":"DAY(Sheet1!B22)","v":"1900-01-07"},{"$f":"DAY(Sheet1!C22)","v":"1900-01-08"},{"$f":"DAY(Sheet1!D22)","v":"1900-01-09"},{"$f":"DAY(Sheet1!E22)","v":"1900-01-10"},{"$f":"DAY(Sheet1!F22)","v":"1900-01-11"},{"$f":"DAY(Sheet1!G22)","v":"1900-01-12"},null,null,null,null,null,null,null,null,null,{"$f":"DAY(Sheet1!A64)","v":"1900-01-30"},{"$f":"DAY(Sheet1!B64)","v":"1900-01-31"},{"$f":"DAY(Sheet1!C64)","v":"1900-01-01"},{"$f":"DAY(Sheet1!D64)","v":"1900-01-02"},{"$f":"DAY(Sheet1!E64)","v":"1900-01-03"},{"$f":"DAY(Sheet1!F64)","v":"1900-01-04"},{"$f":"DAY(Sheet1!G64)","v":"1900-01-05"}]
[null,{"$f":"DATE(year,month+3,1)","v":"2024-10-01"},null,null,null,null,null,null,null,null,null,null,null,null,null,null,null,{"$f":"DATE(M3,4,1)","v":"2025-04-01"}]
[null,"Su","M","Tu","W","Th","F","Sa",null,null,null,null,null,null,null,null,null,"Su","M","Tu","W","Th","F","Sa"]
[null,{"$f":"DAY(Sheet1!A24)","v":"1900-01-29"},{"$f":"DAY(Sheet1!B24)","v":"1900-01-30"},{"$f":"DAY(Sheet1!C24)","v":"1900-01-01"},{"$f":"DAY(Sheet1!D24)","v":"1900-01-02"},{"$f":"DAY(Sheet1!E24)","v":"1900-01-03"},{"$f":"DAY(Sheet1!F24)","v":"1900-01-04"},{"$f":"DAY(Sheet1!G24)","v":"1900-01-05"},null,"Month Total  ",null,null,null,null,{"$f":"NETWORKDAYS(B37,EOMONTH(B37,0),0)","v":23},null,null,{"$f":"DAY(Sheet1!A66)","v":"1900-01-30"},{"$f":"DAY(Sheet1!B66)","v":"1900-01-31"},{"$f":"DAY(Sheet1!C66)","v":"1900-01-01"},{"$f":"DAY(Sheet1!D66)","v":"1900-01-02"},{"$f":"DAY(Sheet1!E66)","v":"1900-01-03"},{"$f":"DAY(Sheet1!F66)","v":"1900-01-04"},{"$f":"DAY(Sheet1!G66)","v":"1900-01-05"},null,"Month Total  ",null,null,null,null,null,{"$f":"NETWORKDAYS(R37,EOMONTH(R37,0),0)","v":22}]
[null,{"$f":"DAY(Sheet1!A25)","v":"1900-01-06"},{"$f":"DAY(Sheet1!B25)","v":"1900-01-07"},{"$f":"DAY(Sheet1!C25)","v":"1900-01-08"},{"$f":"DAY(Sheet1!D25)","v":"1900-01-09"},{"$f":"DAY(Sheet1!E25)","v":"1900-01-10"},{"$f":"DAY(Sheet1!F25)","v":"1900-01-11"},{"$f":"DAY(Sheet1!G25)","v":"1900-01-12"},null,"Year to Total ",null,null,null,null,{"$f":"(O32+O39)","v":89},null,null,{"$f":"DAY(Sheet1!A67)","v":"1900-01-06"},{"$f":"DAY(Sheet1!B67)","v":"1900-01-07"},{"$f":"DAY(Sheet1!C67)","v":"1900-01-08"},{"$f":"DAY(Sheet1!D67)","v":"1900-01-09"},{"$f":"DAY(Sheet1!E67)","v":"1900-01-10"},"H",{"$f":"DAY(Sheet1!G67)","v":"1900-01-12"},null,"Year to Total ",null,null,null,null,null,{"$f":"(AF32+AF39)","v":218}]
[null,{"$f":"DAY(Sheet1!A26)","v":"1900-01-13"},{"$f":"DAY(Sheet1!B26)","v":"1900-01-14"},{"$f":"DAY(Sheet1!C26)","v":"1900-01-15"},{"$f":"DAY(Sheet1!D26)","v":"1900-01-16"},{"$f":"DAY(Sheet1!E26)","v":"1900-01-17"},{"$f":"DAY(Sheet1!F26)","v":"1900-01-18"},{"$f":"DAY(Sheet1!G26)","v":"1900-01-19"},null,"Holidays  ",null,null,null,null,{"$f":"COUNTIF(C39:H43,\"H\")","v":0},null,null,{"$f":"DAY(Sheet1!A68)","v":"1900-01-13"},{"$f":"DAY(Sheet1!B68)","v":"1900-01-14"},{"$f":"DAY(Sheet1!C68)","v":"1900-01-15"},{"$f":"DAY(Sheet1!D68)","v":"1900-01-16"},{"$f":"DAY(Sheet1!E68)","v":"1900-01-17"},{"$f":"DAY(Sheet1!F68)","v":"1900-01-18"},{"$f":"DAY(Sheet1!G68)","v":"1900-01-19"},null,"Holidays  ",null,null,null,null,null,{"$f":"COUNTIF(R39:X44,\"H\")","v":1}]
[null,{"$f":"DAY(Sheet1!A27)","v":"1900-01-20"},{"$f":"DAY(Sheet1!B27)","v":"1900-01-21"},{"$f":"DAY(Sheet1!C27)","v":"1900-01-22"},{"$f":"DAY(Sheet1!D27)","v":"1900-01-23"},{"$f":"DAY(Sheet1!E27)","v":"1900-01-24"},{"$f":"DAY(Sheet1!F27)","v":"1900-01-25"},{"$f":"DAY(Sheet1!G27)","v":"1900-01-26"},null,"Non-Work Days",null,null,null,null,{"$f":"CountCcolor(B39:H44,$T$7)","v":0},null,null,{"$f":"DAY(Sheet1!A69)","v":"1900-01-20"},{"$f":"DAY(Sheet1!B69)","v":"1900-01-21"},{"$f":"DAY(Sheet1!C69)","v":"1900-01-22"},{"$f":"DAY(Sheet1!D69)","v":"1900-01-23"},{"$f":"DAY(Sheet1!E69)","v":"1900-01-24"},{"$f":"DAY(Sheet1!F69)","v":"1900-01-25"},{"$f":"DAY(Sheet1!G69)","v":"1900-01-26"},null,"Non-Work Days",null,null,null,null,null,{"$f":"CountCcolor(S39:Y44,$T$7)","v":0}]
[null,{"$f":"DAY(Sheet1!A28)","v":"1900-01-27"},{"$f":"DAY(Sheet1!B28)","v":"1900-01-28"},{"$f":"DAY(Sheet1!C28)","v":"1900-01-29"},{"$f":"DAY(Sheet1!D28)","v":"1900-01-30"},{"$f":"DAY(Sheet1!E28)","v":"1900-01-31"},{"$f":"DAY(Sheet1!F28)","v":"1900-01-01"},{"$f":"DAY(Sheet1!G28)","v":"1900-01-02"},null,"Service Days ",null,null,null,null,{"$f":"O39-(O41+O42)","v":23},null,null,{"$f":"DAY(Sheet1!A70)","v":"1900-01-27"},{"$f":"DAY(Sheet1!B70)","v":"1900-01-28"},{"$f":"DAY(Sheet1!C70)","v":"1900-01-29"},{"$f":"DAY(Sheet1!D70)","v":"1900-01-30"},{"$f":"DAY(Sheet1!E70)","v":"1900-01-01"},{"$f":"DAY(Sheet1!F70)","v":"1900-01-02"},{"$f":"DAY(Sheet1!G70)","v":"1900-01-03"},null,"Service Days ",null,null,null,null,null,{"$f":"AF39-(AF41+AF42)","v":21}]
[null,{"$f":"DAY(Sheet1!A29)","v":"1900-01-03"},{"$f":"DAY(Sheet1!B29)","v":"1900-01-04"},{"$f":"DAY(Sheet1!C29)","v":"1900-01-05"},{"$f":"DAY(Sheet1!D29)","v":"1900-01-06"},{"$f":"DAY(Sheet1!E29)","v":"1900-01-07"},{"$f":"DAY(Sheet1!F29)","v":"1900-01-08"},{"$f":"DAY(Sheet1!G29)","v":"1900-01-09"},null,null,null,null,null,null,null,null,null,{"$f":"DAY(Sheet1!A71)","v":"1900-01-04"},{"$f":"DAY(Sheet1!B71)","v":"1900-01-05"},{"$f":"DAY(Sheet1!C71)","v":"1900-01-06"},{"$f":"DAY(Sheet1!D71)","v":"1900-01-07"},{"$f":"DAY(Sheet1!E71)","v":"1900-01-08"},{"$f":"DAY(Sheet1!F71)","v":"1900-01-09"},{"$f":"DAY(Sheet1!G71)","v":"1900-01-10"}]
[null,{"$f":"DATE(year,month+4,1)","v":"2024-11-01"},null,null,null,null,null,null,null,null,null,null,null,null,null,null,null,{"$f":"DATE(M3,5,1)","v":"2025-05-01"}]
[null,"Su","M","Tu","W","Th","F","Sa",null,null,null,null,null,null,null,null,null,"Su","M","Tu","W","Th","F","Sa"]
[null,{"$f":"DAY(Sheet1!A31)","v":"1900-01-27"},{"$f":"DAY(Sheet1!B31)","v":"1900-01-28"},{"$f":"DAY(Sheet1!C31)","v":"1900-01-29"},{"$f":"DAY(Sheet1!D31)","v":"1900-01-30"},{"$f":"DAY(Sheet1!E31)","v":"1900-01-31"},{"$f":"DAY(Sheet1!F31)","v":"1900-01-01"},{"$f":"DAY(Sheet1!G31)","v":"1900-01-02"},null,"Month Total  ",null,null,null,null,{"$f":"NETWORKDAYS(B45,EOMONTH(B45,0),0)","v":21},null,null,{"$f":"DAY(Sheet1!A73)","v":"1900-01-27"},{"$f":"DAY(Sheet1!B73)","v":"1900-01-28"},{"$f":"DAY(Sheet1!C73)","v":"1900-01-29"},{"$f":"DAY(Sheet1!D73)","v":"1900-01-30"},{"$f":"DAY(Sheet1!E73)","v":"1900-01-01"},{"$f":"DAY(Sheet1!F73)","v":"1900-01-02"},{"$f":"DAY(Sheet1!G73)","v":"1900-01-03"},null,"Month Total  ",null,null,null,null,null,{"$f":"NETWORKDAYS(R45,EOMONTH(R45,0),0)","v":22}]
[null,{"$f":"DAY(Sheet1!A32)","v":"1900-01-03"},{"$f":"DAY(Sheet1!B32)","v":"1900-01-04"},{"$f":"DAY(Sheet1!C32)","v":"1900-01-05"},{"$f":"DAY(Sheet1!D32)","v":"1900-01-06"},{"$f":"DAY(Sheet1!E32)","v":"1900-01-07"},{"$f":"DAY(Sheet1!F32)","v":"1900-01-08"},{"$f":"DAY(Sheet1!G32)","v":"1900-01-09"},null,"Year to Total ",null,null,null,null,{"$f":"(O40+O47)","v":110},null,null,{"$f":"DAY(Sheet1!A74)","v":"1900-01-04"},{"$f":"DAY(Sheet1!B74)","v":"1900-01-05"},{"$f":"DAY(Sheet1!C74)","v":"1900-01-06"},{"$f":"DAY(Sheet1!D74)","v":"1900-01-07"},{"$f":"DAY(Sheet1!E74)","v":"1900-01-08"},{"$f":"DAY(Sheet1!F74)","v":"1900-01-09"},{"$f":"DAY(Sheet1!G74)","v":"1900-01-10"},null,"Year to Total ",null,null,null,null,null,{"$f":"(AF40+AF47)","v":240}]
[null,{"$f":"DAY(Sheet1!A33)","v":"1900-01-10"},"H",{"$f":"DAY(Sheet1!C33)","v":"1900-01-12"},{"$f":"DAY(Sheet1!D33)","v":"1900-01-13"},{"$f":"DAY(Sheet1!E33)","v":"1900-01-14"},{"$f":"DAY(Sheet1!F33)","v":"1900-01-15"},{"$f":"DAY(Sheet1!G33)","v":"1900-01-16"},null,"Holidays  ",null,null,null,null,{"$f":"COUNTIF(C47:H51,\"H\")","v":3},null,null,{"$f":"DAY(Sheet1!A75)","v":"1900-01-11"},{"$f":"DAY(Sheet1!B75)","v":"1900-01-12"},{"$f":"DAY(Sheet1!C75)","v":"1900-01-13"},{"$f":"DAY(Sheet1!D75)","v":"1900-01-14"},{"$f":"DAY(Sheet1!E75)","v":"1900-01-15"},{"$f":"DAY(Sheet1!F75)","v":"1900-01-16"},{"$f":"DAY(Sheet1!G75)","v":"1900-01-17"},null,"Holidays  ",null,null,null,null,null,{"$f":"COUNTIF(R47:X52,\"H\")","v":1}]
[null,{"$f":"DAY(Sheet1!A34)","v":"1900-01-17"},{"$f":"DAY(Sheet1!B34)","v":"1900-01-18"},{"$f":"DAY(Sheet1!C34)","v":"1900-01-19"},{"$f":"DAY(Sheet1!D34)","v":"1900-01-20"},{"$f":"DAY(Sheet1!E34)","v":"1900-01-21"},{"$f":"DAY(Sheet1!F34)","v":"1900-01-22"},{"$f":"DAY(Sheet1!G34)","v":"1900-01-23"},null,"Non-Work Days",null,null,null,null,{"$f":"CountCcolor(B47:H52,$T$7)","v":0},null,null,{"$f":"DAY(Sheet1!A76)","v":"1900-01-18"},{"$f":"DAY(Sheet1!B76)","v":"1900-01-19"},{"$f":"DAY(Sheet1!C76)","v":"1900-01-20"},{"$f":"DAY(Sheet1!D76)","v":"1900-01-21"},{"$f":"DAY(Sheet1!E76)","v":"1900-01-22"},{"$f":"DAY(Sheet1!F76)","v":"1900-01-23"},{"$f":"DAY(Sheet1!G76)","v":"1900-01-24"},null,"Non-Work Days",null,null,null,null,null,{"$f":"CountCcolor(S47:Y52,$T$7)","v":0}]
[null,{"$f":"DAY(Sheet1!A35)","v":"1900-01-24"},{"$f":"DAY(Sheet1!B35)","v":"1900-01-25"},{"$f":"DAY(Sheet1!C35)","v":"1900-01-26"},{"$f":"DAY(Sheet1!D35)","v":"1900-01-27"},"H","H",{"$f":"DAY(Sheet1!G35)","v":"1900-01-30"},null,"Service Days ",null,null,null,null,{"$f":"O47-(O49+O50)","v":18},null,null,{"$f":"DAY(Sheet1!A77)","v":"1900-01-25"},"H",{"$f":"DAY(Sheet1!C77)","v":"1900-01-27"},{"$f":"DAY(Sheet1!D77)","v":"1900-01-28"},{"$f":"DAY(Sheet1!E77)","v":"1900-01-29"},{"$f":"DAY(Sheet1!F77)","v":"1900-01-30"},{"$f":"DAY(Sheet1!G77)","v":"1900-01-31"},null,"Service Days ",null,null,null,null,null,{"$f":"AF47-(AF49+AF50)","v":21}]
[null,{"$f":"DAY(Sheet1!A36)","v":"1900-01-01"},{"$f":"DAY(Sheet1!B36)","v":"1900-01-02"},{"$f":"DAY(Sheet1!C36)","v":"1900-01-03"},{"$f":"DAY(Sheet1!D36)","v":"1900-01-04"},{"$f":"DAY(Sheet1!E36)","v":"1900-01-05"},{"$f":"DAY(Sheet1!F36)","v":"1900-01-06"},{"$f":"DAY(Sheet1!G36)","v":"1900-01-07"},null,null,null,null,null,null,null,null,null,{"$f":"DAY(Sheet1!A78)","v":"1900-01-01"},{"$f":"DAY(Sheet1!B78)","v":"1900-01-02"},{"$f":"DAY(Sheet1!C78)","v":"1900-01-03"},{"$f":"DAY(Sheet1!D78)","v":"1900-01-04"},{"$f":"DAY(Sheet1!E78)","v":"1900-01-05"},{"$f":"DAY(Sheet1!F78)","v":"1900-01-06"},{"$f":"DAY(Sheet1!G78)","v":"1900-01-07"}]
[null,{"$f":"DATE(year,month+5,1)","v":"2024-12-01"},null,null,null,null,null,null,null,null,null,null,null,null,null,null,null,{"$f":"DATE(M3,6,1)","v":"2025-06-01"}]
[null,"Su","M","Tu","W","Th","F","Sa",null,null,null,null,null,null,null,null,null,"Su","M","Tu","W","Th","F","Sa"]
[null,{"$f":"DAY(Sheet1!A38)","v":"1900-01-01"},{"$f":"DAY(Sheet1!B38)","v":"1900-01-02"},{"$f":"DAY(Sheet1!C38)","v":"1900-01-03"},{"$f":"DAY(Sheet1!D38)","v":"1900-01-04"},{"$f":"DAY(Sheet1!E38)","v":"1900-01-05"},{"$f":"DAY(Sheet1!F38)","v":"1900-01-06"},{"$f":"DAY(Sheet1!G38)","v":"1900-01-07"},null,"Month Total  ",null,null,null,null,{"$f":"NETWORKDAYS(B53,EOMONTH(B53,0),0)","v":22},null,null,{"$f":"DAY(Sheet1!A80)","v":"1900-01-01"},{"$f":"DAY(Sheet1!B80)","v":"1900-01-02"},{"$f":"DAY(Sheet1!C80)","v":"1900-01-03"},{"$f":"DAY(Sheet1!D80)","v":"1900-01-04"},{"$f":"DAY(Sheet1!E80)","v":"1900-01-05"},{"$f":"DAY(Sheet1!F80)","v":"1900-01-06"},{"$f":"DAY(Sheet1!G80)","v":"1900-01-07"},null,"Month Total  ",null,null,null,null,null,{"$f":"NETWORKDAYS(R53,EOMONTH(R53,0),0)","v":21}]
[null,{"$f":"DAY(Sheet1!A39)","v":"1900-01-08"},{"$f":"DAY(Sheet1!B39)","v":"1900-01-09"},{"$f":"DAY(Sheet1!C39)","v":"1900-01-10"},{"$f":"DAY(Sheet1!D39)","v":"1900-01-11"},{"$f":"DAY(Sheet1!E39)","v":"1900-01-12"},{"$f":"DAY(Sheet1!F39)","v":"1900-01-13"},{"$f":"DAY(Sheet1!G39)","v":"1900-01-14"},null,"Year to Total ",null,null,null,null,{"$f":"(O48+O55)","v":132},null,null,{"$f":"DAY(Sheet1!A81)","v":"1900-01-08"},{"$f":"DAY(Sheet1!B81)","v":"1900-01-09"},{"$f":"DAY(Sheet1!C81)","v":"1900-01-10"},{"$f":"DAY(Sheet1!D81)","v":"1900-01-11"},{"$f":"DAY(Sheet1!E81)","v":"1900-01-12"},{"$f":"DAY(Sheet1!F81)","v":"1900-01-13"},{"$f":"DAY(Sheet1!G81)","v":"1900-01-14"},null,"Year to Total ",null,null,null,null,null,{"$f":"(AF48+AF55)","v":261}]
[null,{"$f":"DAY(Sheet1!A40)","v":"1900-01-15"},{"$f":"DAY(Sheet1!B40)","v":"1900-01-16"},{"$f":"DAY(Sheet1!C40)","v":"1900-01-17"},{"$f":"DAY(Sheet1!D40)","v":"1900-01-18"},{"$f":"DAY(Sheet1!E40)","v":"1900-01-19"},{"$f":"DAY(Sheet1!F40)","v":"1900-01-20"},{"$f":"DAY(Sheet1!G40)","v":"1900-01-21"},null,"Holidays  ",null,null,null,null,{"$f":"COUNTIF(C55:H59,\"H\")","v":4},null,null,{"$f":"DAY(Sheet1!A82)","v":"1900-01-15"},{"$f":"DAY(Sheet1!B82)","v":"1900-01-16"},{"$f":"DAY(Sheet1!C82)","v":"1900-01-17"},{"$f":"DAY(Sheet1!D82)","v":"1900-01-18"},{"$f":"DAY(Sheet1!E82)","v":"1900-01-19"},{"$f":"DAY(Sheet1!F82)","v":"1900-01-20"},{"$f":"DAY(Sheet1!G82)","v":"1900-01-21"},null,"Holidays",null,null,null,null,null,{"$f":"COUNTIF(R55:X60,\"H\")","v":0}]
[null,{"$f":"DAY(Sheet1!A41)","v":"1900-01-22"},{"$f":"DAY(Sheet1!B41)","v":"1900-01-23"},"H","H",{"$f":"DAY(Sheet1!E41)","v":"1900-01-26"},{"$f":"DAY(Sheet1!F41)","v":"1900-01-27"},{"$f":"DAY(Sheet1!G41)","v":"1900-01-28"},null,"Non-Work Days",null,null,null,null,{"$f":"CountCcolor(B55:H60,$T$7)","v":0},null,null,{"$f":"DAY(Sheet1!A83)","v":"1900-01-22"},{"$f":"DAY(Sheet1!B83)","v":"1900-01-23"},{"$f":"DAY(Sheet1!C83)","v":"1900-01-24"},{"$f":"DAY(Sheet1!D83)","v":"1900-01-25"},{"$f":"DAY(Sheet1!E83)","v":"1900-01-26"},{"$f":"DAY(Sheet1!F83)","v":"1900-01-27"},{"$f":"DAY(Sheet1!G83)","v":"1900-01-28"},null,"Non-Work Days",null,null,null,null,null,{"$f":"CountCcolor(S55:Y60,$T$7)","v":0}]
[null,{"$f":"DAY(Sheet1!A42)","v":"1900-01-29"},"H","H",{"$f":"DAY(Sheet1!D42)","v":"1900-01-01"},{"$f":"DAY(Sheet1!E42)","v":"1900-01-02"},{"$f":"DAY(Sheet1!F42)","v":"1900-01-03"},{"$f":"DAY(Sheet1!G42)","v":"1900-01-04"},null,"Service Days ",null,null,null,null,{"$f":"O55-(O57+O58)","v":18},null,null,{"$f":"DAY(Sheet1!A84)","v":"1900-01-29"},{"$f":"DAY(Sheet1!B84)","v":"1900-01-30"},{"$f":"DAY(Sheet1!C84)","v":"1900-01-01"},{"$f":"DAY(Sheet1!D84)","v":"1900-01-02"},{"$f":"DAY(Sheet1!E84)","v":"1900-01-03"},{"$f":"DAY(Sheet1!F84)","v":"1900-01-04"},{"$f":"DAY(Sheet1!G84)","v":"1900-01-05"},null,"Service Days ",null,null,null,null,null,{"$f":"AF55-(AF57+AF58)","v":21}]
[null,{"$f":"DAY(Sheet1!A43)","v":"1900-01-05"},{"$f":"DAY(Sheet1!B43)","v":"1900-01-06"},{"$f":"DAY(Sheet1!C43)","v":"1900-01-07"},{"$f":"DAY(Sheet1!D43)","v":"1900-01-08"},{"$f":"DAY(Sheet1!E43)","v":"1900-01-09"},{"$f":"DAY(Sheet1!F43)","v":"1900-01-10"},{"$f":"DAY(Sheet1!G43)","v":"1900-01-11"},null,null,null,null,null,null,null,null,null,{"$f":"DAY(Sheet1!A85)","v":"1900-01-06"},{"$f":"DAY(Sheet1!B85)","v":"1900-01-07"},{"$f":"DAY(Sheet1!C85)","v":"1900-01-08"},{"$f":"DAY(Sheet1!D85)","v":"1900-01-09"},{"$f":"DAY(Sheet1!E85)","v":"1900-01-10"},{"$f":"DAY(Sheet1!F85)","v":"1900-01-11"},{"$f":"DAY(Sheet1!G85)","v":"1900-01-12"}]
[]
[null,null,"Employee's Signature",null,null,null,null,null,null,null,null,null,null,null,"(Date)",null,null,null,null,"Supervisor's Signature",null,null,null,null,null,null,null,null,null,"(Date)"]
[null,null,"Holidays:",null,null,null,{"$f":"O17+O25+O33+O41+O49+O57+AF17+AF25+AF33+AF41+AF49+AF57","v":15},null,null,null,"Non-Work/VAC Days:",null,null,null,null,null,null,{"$f":"(O18+O26+O34+O42+O50+O58+AF18+AF26+AF34+AF42+AF50+AF58)","v":0},null,null,"Total Work Days:",null,null,null,null,null,null,{"$f":"O19+O27+O35+O43+O51+O59+AF19+AF27+AF35+AF43+AF51+AF59","v":246}]
[null,null,null,null,null,null,null,null,null,null,null,null,null,"Revision Date:"]

{"sheet":"Sheet1","index":1,"n_rows":85,"n_cols":18,"rows_kept":85,"cut":false,"hidden":true,"merged":[]}
[2024,7]
["SUN","MON","TUE","WED","THU","FRI","SAT",null,null,null,null,null,null,null,null,null,null,{"$f":"IF(MONTH(WORKDAY.INTL(DATE($A$1,$B$1,0),ROW()-1,\"1111100\"))=$B$1,WORKDAY.INTL(DATE($A$1,$B$1,0),ROW()-1,\"1111100\"),\"\")","v":"2024-07-06"}]
[{"$f":"_xlfn.SEQUENCE(6,7,DATE(A1,month,1)-WEEKDAY(DATE(A1,month,1))+1,1)","v":"2024-06-30"},"2024-07-01","2024-07-02","2024-07-03","2024-07-04","2024-07-05","2024-07-06",null,null,{"$f":"MOD(MONTH(A3),2)","v":0},{"$f":"MOD(MONTH(B3),2)","v":1},1,1,1,1,1,null,{"$f":"IF(MONTH(WORKDAY.INTL(DATE($A$1,$B$1,0),ROW()-1,\"1111100\"))=$B$1,WORKDAY.INTL(DATE($A$1,$B$1,0),ROW()-1,\"1111100\"),\"\")","v":"2024-07-07"}]
["2024-07-07","2024-07-08","2024-07-09","2024-07-10","2024-07-11","2024-07-12","2024-07-13",null,null,{"$f":"MOD(MONTH(A4),2)","v":1},{"$f":"MOD(MONTH(B4),2)","v":1},{"$f":"MOD(MONTH(C4),2)","v":1},{"$f":"MOD(MONTH(D4),2)","v":1},{"$f":"MOD(MONTH(E4),2)","v":1},{"$f":"MOD(MONTH(F4),2)","v":1},{"$f":"MOD(MONTH(G4),2)","v":1},null,"2024-07-13"]
["2024-07-14","2024-07-15","2024-07-16","2024-07-17","2024-07-18","2024-07-19","2024-07-20",null,null,1,1,1,1,1,1,1,null,"2024-07-14"]
["2024-07-21","2024-07-22","2024-07-23","2024-07-24","2024-07-25","2024-07-26","2024-07-27",null,null,1,1,1,1,1,1,1,null,"2024-07-20"]
["2024-07-28","2024-07-29","2024-07-30","2024-07-31","2024-08-01","2024-08-02","2024-08-03",null,null,1,1,1,1,0,0,0,null,"2024-07-21"]
["2024-08-04","2024-08-05","2024-08-06","2024-08-07","2024-08-08","2024-08-09","2024-08-10",null,null,0,0,0,0,0,0,0,null,"2024-07-27"]
[null,null,null,null,null,null,null,null,null,null,null,null,null,null,null,null,null,"2024-07-28"]
[{"$f":"_xlfn.SEQUENCE(6,7,DATE(A1,(month+1),1)-WEEKDAY(DATE(A1,month+1,1))+1,1)","v":"2024-07-28"},"2024-07-29","2024-07-30","2024-07-31","2024-08-01","2024-08-02","2024-08-03",null,null,{"$f":"MOD(MONTH(A10)-1,2)","v":0},{"$f":"MOD(MONTH(B10)-1,2)","v":0},0,0,1,1,1,null,""]
["2024-08-04","2024-08-05","2024-08-06","2024-08-07","2024-08-08","2024-08-09","2024-08-10",null,null,{"$f":"MOD(MONTH(A11)-1,2)","v":1},{"$f":"MOD(MONTH(B11)-1,2)","v":1},{"$f":"MOD(MONTH(C11)-1,2)","v":1},{"$f":"MOD(MONTH(D11)-1,2)","v":1},{"$f":"MOD(MONTH(E11)-1,2)","v":1},{"$f":"MOD(MONTH(F11)-1,2)","v":1},{"$f":"MOD(MONTH(G11)-1,2)","v":1},null,""]
["2024-08-11","2024-08-12","2024-08-13","2024-08-14","2024-08-15","2024-08-16","2024-08-17",null,null,1,1,1,1,1,1,1,null,""]
["2024-08-18","2024-08-19","2024-08-20","2024-08-21","2024-08-22","2024-08-23","2024-08-24",null,null,1,1,1,1,1,1,1,null,""]
["2024-08-25","2024-08-26","2024-08-27","2024-08-28","2024-08-29","2024-08-30","2024-08-31",null,null,1,1,1,1,1,1,1,null,""]
["2024-09-01","2024-09-02","2024-09-03","2024-09-04","2024-09-05","2024-09-06","2024-09-07",null,null,0,0,0,0,0,0,0,null,""]
[null,null,null,null,null,null,null,null,null,null,null,null,null,null,null,null,null,""]
[{"$f":"_xlfn.SEQUENCE(6,7,DATE(A1,(month+2),1)-WEEKDAY(DATE(A1,month+2,1))+1,1)","v":"2024-09-01"},"2024-09-02","2024-09-03","2024-09-04","2024-09-05","2024-09-06","2024-09-07",null,null,1,1,1,1,1,1,1,null,""]
["2024-09-08","2024-09-09","2024-09-10","2024-09-11","2024-09-12","2024-09-13","2024-09-14",null,null,1,1,1,1,1,1,1,null,""]
["2024-09-15","2024-09-16","2024-09-17","2024-09-18","2024-09-19","2024-09-20","2024-09-21",null,null,1,1,1,1,1,1,1,null,""]
["2024-09-22","2024-09-23","2024-09-24","2024-09-25","2024-09-26","2024-09-27","2024-09-28",null,null,1,1,1,1,1,1,1,null,""]
["2024-09-29","2024-09-30","2024-10-01","2024-10-02","2024-10-03","2024-10-04","2024-10-05",null,null,1,1,0,0,0,0,0,null,""]
["2024-10-06","2024-10-07","2024-10-08","2024-10-09","2024-10-10","2024-10-11","2024-10-12",null,null,0,0,0,0,0,0,0,null,""]
[null,null,null,null,null,null,null,null,null,1,1,1,1,1,1,1,null,""]
[{"$f":"_xlfn.SEQUENCE(6,7,DATE(A1,(month+3),1)-WEEKDAY(DATE(A1,month+3,1))+1,1)","v":"2024-09-29"},"2024-09-30","2024-10-01","2024-10-02","2024-10-03","2024-10-04","2024-10-05",null,null,1,1,0,0,0,0,0,null,""]
["2024-10-06","2024-10-07","2024-10-08","2024-10-09","2024-10-10","2024-10-11","2024-10-12",null,null,0,0,0,0,0,0,0,null,""]
["2024-10-13","2024-10-14","2024-10-15","2024-10-16","2024-10-17","2024-10-18","2024-10-19",null,null,0,0,0,0,0,0,0,null,""]
["2024-10-20","2024-10-21","2024-10-22","2024-10-23","2024-10-24","2024-10-25","2024-10-26",null,null,null,null,null,null,null,null,null,null,""]
["2024-10-27","2024-10-28","2024-10-29","2024-10-30","2024-10-31","2024-11-01","2024-11-02",null,null,null,null,null,null,null,null,null,null,{"$f":"WORKDAY.INTL(DATE($A$1,$B$1,0),ROW()-1,\"1111100\")","v":"2024-10-05"}]
["2024-11-03","2024-11-04","2024-11-05","2024-11-06","2024-11-07","2024-11-08","2024-11-09",null,null,{"$f":"WORKDAY.INTL(\"07-01-2023\",0)","v":"2023-07-01"},null,null,null,null,null,null,null,"2024-10-06"]
[null,null,null,null,null,null,null,null,null,{"$f":"IF(MONTH(WORKDAY.INTL(DATE($A$1,$B$1,0),ROW()-4,\"1111100\"))=$B$1,WORKDAY.INTL(DATE($A$1,$B$1,0),ROW()-4,\"1111100\"),\"\")","v":""},null,null,null,null,null,null,null,"2024-10-12"]
[{"$f":"_xlfn.SEQUENCE(6,7,DATE(A1,(month+4),1)-WEEKDAY(DATE(A1,month+4,1))+1,1)","v":"2024-10-27"},"2024-10-28","2024-10-29","2024-10-30","2024-10-31","2024-11-01","2024-11-02",null,null,null,null,null,null,null,null,null,null,"2024-10-13"]
["2024-11-03","2024-11-04","2024-11-05","2024-11-06","2024-11-07","2024-11-08","2024-11-09",null,null,null,null,null,null,null,null,null,null,"2024-10-19"]
["2024-11-10","2024-11-11","2024-11-12","2024-11-13","2024-11-14","2024-11-15","2024-11-16",null,null,null,null,null,null,null,null,null,null,"2024-10-20"]
["2024-11-17","2024-11-18","2024-11-19","2024-11-20","2024-11-21","2024-11-22","2024-11-23"]
["2024-11-24","2024-11-25","2024-11-26","2024-11-27","2024-11-28","2024-11-29","2024-11-30"]
["2024-12-01","2024-12-02","2024-12-03","2024-12-04","2024-12-05","2024-12-06","2024-12-07"]
[]
[{"$f":"_xlfn.SEQUENCE(6,7,DATE(A1,(month+5),1)-WEEKDAY(DATE(A1,month+5,1))+1,1)","v":"2024-12-01"},"2024-12-02","2024-12-03","2024-12-04","2024-12-05","2024-12-06","2024-12-07"]
["2024-12-08","2024-12-09","2024-12-10","2024-12-11","2024-12-12","2024-12-13","2024-12-14"]
["2024-12-15","2024-12-16","2024-12-17","2024-12-18","2024-12-19","2024-12-20","2024-12-21"]
["2024-12-22","2024-12-23","2024-12-24","2024-12-25","2024-12-26","2024-12-27","2024-12-28"]
["2024-12-29","2024-12-30","2024-12-31","2025-01-01","2025-01-02","2025-01-03","2025-01-04"]
["2025-01-05","2025-01-06","2025-01-07","2025-01-08","2025-01-09","2025-01-10","2025-01-11"]
[]
[{"$f":"_xlfn.SEQUENCE(6,7,DATE(A1,(month+6),1)-WEEKDAY(DATE(A1,month+6,1))+1,1)","v":"2024-12-29"},"2024-12-30","2024-12-31","2025-01-01","2025-01-02","2025-01-03","2025-01-04"]
["2025-01-05","2025-01-06","2025-01-07","2025-01-08","2025-01-09","2025-01-10","2025-01-11"]
["2025-01-12","2025-01-13","2025-01-14","2025-01-15","2025-01-16","2025-01-17","2025-01-18"]
["2025-01-19","2025-01-20","2025-01-21","2025-01-22","2025-01-23","2025-01-24","2025-01-25"]
["2025-01-26","2025-01-27","2025-01-28","2025-01-29","2025-01-30","2025-01-31","2025-02-01"]
["2025-02-02","2025-02-03","2025-02-04","2025-02-05","2025-02-06","2025-02-07","2025-02-08"]
[]
[{"$f":"_xlfn.SEQUENCE(6,7,DATE(A1,(month+7),1)-WEEKDAY(DATE(A1,month+7,1))+1,1)","v":"2025-01-26"},"2025-01-27","2025-01-28","2025-01-29","2025-01-30","2025-01-31","2025-02-01"]
["2025-02-02","2025-02-03","2025-02-04","2025-02-05","2025-02-06","2025-02-07","2025-02-08"]
["2025-02-09","2025-02-10","2025-02-11","2025-02-12","2025-02-13","2025-02-14","2025-02-15"]
["2025-02-16","2025-02-17","2025-02-18","2025-02-19","2025-02-20","2025-02-21","2025-02-22"]
["2025-02-23","2025-02-24","2025-02-25","2025-02-26","2025-02-27","2025-02-28","2025-03-01"]
["2025-03-02","2025-03-03","2025-03-04","2025-03-05","2025-03-06","2025-03-07","2025-03-08"]
[]
[{"$f":"_xlfn.SEQUENCE(6,7,DATE(A1,(month+8),1)-WEEKDAY(DATE(A1,month+8,1))+1,1)","v":"2025-02-23"},"2025-02-24","2025-02-25","2025-02-26","2025-02-27","2025-02-28","2025-03-01"]
["2025-03-02","2025-03-03","2025-03-04","2025-03-05","2025-03-06","2025-03-07","2025-03-08"]
["2025-03-09","2025-03-10","2025-03-11","2025-03-12","2025-03-13","2025-03-14","2025-03-15"]
["2025-03-16","2025-03-17","2025-03-18","2025-03-19","2025-03-20","2025-03-21","2025-03-22"]
["2025-03-23","2025-03-24","2025-03-25","2025-03-26","2025-03-27","2025-03-28","2025-03-29"]
["2025-03-30","2025-03-31","2025-04-01","2025-04-02","2025-04-03","2025-04-04","2025-04-05"]
[]
[{"$f":"_xlfn.SEQUENCE(6,7,DATE(A1,(month+9),1)-WEEKDAY(DATE(A1,month+9,1))+1,1)","v":"2025-03-30"},"2025-03-31","2025-04-01","2025-04-02","2025-04-03","2025-04-04","2025-04-05"]
["2025-04-06","2025-04-07","2025-04-08","2025-04-09","2025-04-10","2025-04-11","2025-04-12"]
["2025-04-13","2025-04-14","2025-04-15","2025-04-16","2025-04-17","2025-04-18","2025-04-19"]
["2025-04-20","2025-04-21","2025-04-22","2025-04-23","2025-04-24","2025-04-25","2025-04-26"]
["2025-04-27","2025-04-28","2025-04-29","2025-04-30","2025-05-01","2025-05-02","2025-05-03"]
["2025-05-04","2025-05-05","2025-05-06","2025-05-07","2025-05-08","2025-05-09","2025-05-10"]
[]
[{"$f":"_xlfn.SEQUENCE(6,7,DATE(A1,(month+10),1)-WEEKDAY(DATE(A1,month+10,1))+1,1)","v":"2025-04-27"},"2025-04-28","2025-04-29","2025-04-30","2025-05-01","2025-05-02","2025-05-03"]
["2025-05-04","2025-05-05","2025-05-06","2025-05-07","2025-05-08","2025-05-09","2025-05-10"]
["2025-05-11","2025-05-12","2025-05-13","2025-05-14","2025-05-15","2025-05-16","2025-05-17"]
["2025-05-18","2025-05-19","2025-05-20","2025-05-21","2025-05-22","2025-05-23","2025-05-24"]
["2025-05-25","2025-05-26","2025-05-27","2025-05-28","2025-05-29","2025-05-30","2025-05-31"]
["2025-06-01","2025-06-02","2025-06-03","2025-06-04","2025-06-05","2025-06-06","2025-06-07"]
[]
[{"$f":"_xlfn.SEQUENCE(6,7,DATE(A1,(month+11),1)-WEEKDAY(DATE(A1,month+11,1))+1,1)","v":"2025-06-01"},"2025-06-02","2025-06-03","2025-06-04","2025-06-05","2025-06-06","2025-06-07"]
["2025-06-08","2025-06-09","2025-06-10","2025-06-11","2025-06-12","2025-06-13","2025-06-14"]
["2025-06-15","2025-06-16","2025-06-17","2025-06-18","2025-06-19","2025-06-20","2025-06-21"]
["2025-06-22","2025-06-23","2025-06-24","2025-06-25","2025-06-26","2025-06-27","2025-06-28"]
["2025-06-29","2025-06-30","2025-07-01","2025-07-02","2025-07-03","2025-07-04","2025-07-05"]
["2025-07-06","2025-07-07","2025-07-08","2025-07-09","2025-07-10","2025-07-11","2025-07-12"]